BEGIN:VCALENDAR
VERSION:2.0
PRODID:-//Davis Farr LLP - ECPv6.15.17.1//NONSGML v1.0//EN
CALSCALE:GREGORIAN
METHOD:PUBLISH
X-WR-CALNAME:Davis Farr LLP
X-ORIGINAL-URL:https://www.davisfarr.com
X-WR-CALDESC:Events for Davis Farr LLP
REFRESH-INTERVAL;VALUE=DURATION:PT1H
X-Robots-Tag:noindex
X-PUBLISHED-TTL:PT1H
BEGIN:VTIMEZONE
TZID:UTC
BEGIN:STANDARD
TZOFFSETFROM:+0000
TZOFFSETTO:+0000
TZNAME:UTC
DTSTART:20190101T000000
END:STANDARD
END:VTIMEZONE
BEGIN:VEVENT
DTSTART;VALUE=DATE:20200304
DTEND;VALUE=DATE:20200305
DTSTAMP:20260426T032918
CREATED:20200221T184124Z
LAST-MODIFIED:20200221T190508Z
UID:2628-1583280000-1583366399@www.davisfarr.com
SUMMARY:United Way Mock Interview Volunteer Event
DESCRIPTION:Davis Farr employees will volunteer in the Mock Interview Volunteer Event at Anaheim High School on March 4\, 2020.  \nVolunteers will be paired up with high school students to review resumes and cover letters\, partake in mock interviews\, and provide feedback to improve skills.  \nhttps://unitedwayoc.formstack.com/forms/volunteer_ycc_mock_interviews
URL:https://www.davisfarr.com/event/united-way-mock-interview-volunteer-event/
LOCATION:Anaheim High School
END:VEVENT
BEGIN:VEVENT
DTSTART;VALUE=DATE:20200322
DTEND;VALUE=DATE:20200323
DTSTAMP:20260426T032918
CREATED:20200221T184319Z
LAST-MODIFIED:20200221T190713Z
UID:2632-1584835200-1584921599@www.davisfarr.com
SUMMARY:Reaching for the Cure Half Marathon\, 10k\, 5k and Kids Run
DESCRIPTION:Davis Farr employees will participate at the Reaching for the Cure Half Marathon\, 10k\, 5k and Kids Run benefiting the Pediatric Cancer Research Foundation. \nReaching for the Cure is an event that brings together 5\,000 community members from all over Southern California to eliminate childhood cancer. Every step you take helps raise awareness and funds for leading edge research with the best hope for a cure.  \nVoted #1 Best of OC Run/Race – this event has that feel-good-vibe dialed in! Whether you’re a serious athlete\, training for your first race\, running for fun\, or walking with your friends and family – what sets this race apart from the rest is how you feel when you cross the finish line. \nhttps://cure.pcrf-kids.org/event/2020-reaching-for-the-cure/e231455  
URL:https://www.davisfarr.com/event/reaching-cure-half-marathon-10k-5k-kids-run/
LOCATION:Irvine Valley College
END:VEVENT
END:VCALENDAR