BEGIN:VCALENDAR
VERSION:2.0
PRODID:-//Davis Farr LLP - ECPv6.15.17.1//NONSGML v1.0//EN
CALSCALE:GREGORIAN
METHOD:PUBLISH
X-ORIGINAL-URL:https://www.davisfarr.com
X-WR-CALDESC:Events for Davis Farr LLP
REFRESH-INTERVAL;VALUE=DURATION:PT1H
X-Robots-Tag:noindex
X-PUBLISHED-TTL:PT1H
BEGIN:VTIMEZONE
TZID:UTC
BEGIN:STANDARD
TZOFFSETFROM:+0000
TZOFFSETTO:+0000
TZNAME:UTC
DTSTART:20190101T000000
END:STANDARD
END:VTIMEZONE
BEGIN:VEVENT
DTSTART;VALUE=DATE:20200502
DTEND;VALUE=DATE:20200503
DTSTAMP:20260426T001956
CREATED:20200221T190245Z
LAST-MODIFIED:20200221T190245Z
UID:2641-1588377600-1588463999@www.davisfarr.com
SUMMARY:Stand up for the Cure Newport Beach
DESCRIPTION:This festival-style event includes instructor-led demos and clinics\, live music\, happy hour\, and lunch. Standup paddlers of all levels and all ages are welcome. Participants that are new to paddling can learn alongside other beginners or attend the event as a “dry-foot” participant. \nhttps://www.destinationirvine.com/event/standup-for-the-cure-2020/27096/
URL:https://www.davisfarr.com/event/stand-cure-newport-beach/
LOCATION:Newport Dunes Bayside Resort
END:VEVENT
BEGIN:VEVENT
DTSTART;VALUE=DATE:20200512
DTEND;VALUE=DATE:20200513
DTSTAMP:20260426T001956
CREATED:20200221T181154Z
LAST-MODIFIED:20200227T004208Z
UID:2611-1589241600-1589327999@www.davisfarr.com
SUMMARY:CSMFO Investment Accounting
DESCRIPTION:Interested in learning more about those tricky investment debits and credits? \nDavis Farr is presenting at the annual CSMFO Investment Accounting seminar at the City of Newport Beach on May 12\, 2020. \nLooking forward to seeing you there. \nhttps://events.csmfo.org/events/event_list.asp
URL:https://www.davisfarr.com/event/csmfo-investment-accounting/
END:VEVENT
BEGIN:VEVENT
DTSTART;VALUE=DATE:20200520
DTEND;VALUE=DATE:20200521
DTSTAMP:20260426T001956
CREATED:20200221T182034Z
LAST-MODIFIED:20200221T182034Z
UID:2619-1589932800-1590019199@www.davisfarr.com
SUMMARY:Orange County United Way Women’s Philanthropy Fund Breakfast
DESCRIPTION:Davis Farr is proud to sponsor the 2020 United Way Women’s Philanthropy Fund Breakfast on May 20th at the Irvine Hotel. \nThis year’s celebrity guest is Kareen Abdul-Jabbar. Tickets sell out fast. \nhttps://www.unitedwayoc.org/events/women-philanthropy-fund-breakfast/ \n 
URL:https://www.davisfarr.com/event/orange-county-united-way-womens-philanthropy-fund-breakfast/
LOCATION:Hotel Irvine\, 17900 Jamboree Blvd.\, Irvine\, 92614\, United States
END:VEVENT
END:VCALENDAR